BEGIN:VCALENDAR
VERSION:2.0
PRODID:-//Tukios.com/
BEGIN:VEVENT
UID:957be3ce-82aa-4b81-b039-a481f5f6296c@www.dingmannandsons.com
DTSTAMP:20260424T235658Z
DTSTART:20260427T220000Z
DTEND:20260428T010000Z
SUMMARY:Visitation
DESCRIPTION:
URL:https://www.dingmannandsons.com/obituaries/scott-klooster
LOCATION: 109 7th St E  Adrian MN 56110
GEO:43.628479;-95.932238
END:VEVENT
END:VCALENDAR