BEGIN:VCALENDAR
VERSION:2.0
PRODID:-//Tukios.com/
BEGIN:VEVENT
UID:9afd9ef8-3ca0-416c-92c8-cee4025b6603@www.dingmannandsons.com
DTSTAMP:20260424T235056Z
DTSTART:20260428T150000Z
DTEND:20260428T160000Z
SUMMARY:Funeral Service
DESCRIPTION:
URL:https://www.dingmannandsons.com/obituaries/scott-klooster
LOCATION:United Methodist Church 301 Oklahoma Ave.  Adrian MN 56110
GEO:43.6339124;-95.930643
END:VEVENT
END:VCALENDAR